BEGIN:VCALENDAR
VERSION:2.0
PRODID:-//wp-events-plugin.com//7.2.1//EN
TZID:Europe/Paris
X-WR-TIMEZONE:Europe/Paris
BEGIN:VEVENT
UID:39@frenellesenvexin.fr
DTSTART;TZID=Europe/Paris;VALUE=DATE:20260508
DTEND;TZID=Europe/Paris;VALUE=DATE:20260509
DTSTAMP:20260308T141615Z
URL:https://www.frenellesenvexin.fr/site/events/commemoration-81eme-annive
 rsaire-de-la-victoire-du-08-mai-1945/
SUMMARY:Commémoration - 81ème anniversaire de la victoire du 08 mai 1945
DESCRIPTION:Par les communes déléguées de Boisemont et Corny
ATTACH;FMTTYPE=image/jpeg:https://www.frenellesenvexin.fr/site/wp-content/
 uploads/2026/03/commemoration.jpg
CATEGORIES:Evénements
END:VEVENT
BEGIN:VTIMEZONE
TZID:Europe/Paris
X-LIC-LOCATION:Europe/Paris
BEGIN:DAYLIGHT
DTSTART:20260329T030000
TZOFFSETFROM:+0100
TZOFFSETTO:+0200
TZNAME:CEST
END:DAYLIGHT
END:VTIMEZONE
END:VCALENDAR