BEGIN:VCALENDAR
VERSION:2.0
PRODID:-//wp-events-plugin.com//7.2.1//EN
TZID:Europe/Paris
X-WR-TIMEZONE:Europe/Paris
BEGIN:VEVENT
UID:40@frenellesenvexin.fr
DTSTART;TZID=Europe/Paris:20260514T120000
DTEND;TZID=Europe/Paris:20260514T120000
DTSTAMP:20260308T142206Z
URL:https://www.frenellesenvexin.fr/site/events/repas-des-aines-de-fresne-
 larcheveque-2/
SUMMARY:Repas des Aînés de Fresne l'Archevêque
DESCRIPTION:Par la municipalité
ATTACH;FMTTYPE=image/jpeg:https://www.frenellesenvexin.fr/site/wp-content/
 uploads/2026/03/repas-aines-e1772979648354.jpg
CATEGORIES:Evénements
END:VEVENT
BEGIN:VTIMEZONE
TZID:Europe/Paris
X-LIC-LOCATION:Europe/Paris
BEGIN:DAYLIGHT
DTSTART:20260329T030000
TZOFFSETFROM:+0100
TZOFFSETTO:+0200
TZNAME:CEST
END:DAYLIGHT
END:VTIMEZONE
END:VCALENDAR